BEGIN:VCALENDAR
VERSION:2.0
PRODID:-//ChamberMaster//Event Calendar 2.0//EN
METHOD:PUBLISH
X-PUBLISHED-TTL:P3D
REFRESH-INTERVAL:P3D
CALSCALE:GREGORIAN
BEGIN:VEVENT
DTSTART:20250415T223000Z
DTEND:20250416T000000Z
X-MICROSOFT-CDO-ALLDAYEVENT:FALSE
SUMMARY:Social Hour with Greenwood Leflore Young Professionals
DESCRIPTION:Join us for a relaxed and fun social hour to kick off the season! Enjoy great conversations\, meet new people\, and unwind with a cash bar. Whether you're looking to network or just enjoy some spring vibes\, this event is the perfect way to start the season. Don't miss out on a night of connections and refreshing drinks!
X-ALT-DESC;FMTTYPE=text/html:Join us for a relaxed and fun social hour to kick off the season! Enjoy great conversations\, meet new people\, and unwind with a cash bar. Whether you&#39\;re looking to network or just enjoy some spring vibes\, this event is the perfect way to start the season. Don&rsquo\;t miss out on a night of connections and refreshing drinks!
LOCATION:The Alluvian Hotel 318 Howard Street
UID:e.2769.571
SEQUENCE:3
DTSTAMP:20260422T230755Z
URL:https://business.greenwoodmschamber.com/events/details/social-hour-with-greenwood-leflore-young-professionals-571
END:VEVENT

END:VCALENDAR
