BEGIN:VCALENDAR
VERSION:2.0
PRODID:-//ChamberMaster//Event Calendar 2.0//EN
METHOD:PUBLISH
X-PUBLISHED-TTL:P3D
REFRESH-INTERVAL:P3D
CALSCALE:GREGORIAN
BEGIN:VEVENT
DTSTART:20250716T150000Z
DTEND:20250716T190000Z
X-MICROSOFT-CDO-ALLDAYEVENT:FALSE
SUMMARY:Special Seniors
DESCRIPTION:Caregivers respite.\n\nDrop off you loved ones for a time of respite. Food fun and fellowship for participants
X-ALT-DESC;FMTTYPE=text/html:Caregivers respite.<br />\nDrop off you loved ones for a time of respite. Food fun and fellowship for participants
LOCATION:Locus Benedictus Retreat Center 1407 Levee Rd Greenwood MS 38930
UID:e.2769.1012
SEQUENCE:3
DTSTAMP:20260422T205022Z
URL:https://business.greenwoodmschamber.com/events/details/special-seniors-07-16-2025-1012
END:VEVENT

END:VCALENDAR
