BEGIN:VCALENDAR
VERSION:2.0
PRODID:-//ChamberMaster//Event Calendar 2.0//EN
METHOD:PUBLISH
X-PUBLISHED-TTL:P3D
REFRESH-INTERVAL:P3D
CALSCALE:GREGORIAN
BEGIN:VEVENT
DTSTART:20251015T150000Z
DTEND:20251015T190000Z
X-MICROSOFT-CDO-ALLDAYEVENT:FALSE
SUMMARY:Special Seniors
DESCRIPTION:Respite for Caregivers
X-ALT-DESC;FMTTYPE=text/html:Respite for Caregivers
LOCATION:Locus Benedictus Retreat Center 1407 Levee Rd. Greenwood\, MS 38930
UID:e.2769.1030
SEQUENCE:3
DTSTAMP:20260422T160303Z
URL:https://business.greenwoodmschamber.com/events/details/special-seniors-10-15-2025-1030
END:VEVENT

END:VCALENDAR
