BEGIN:VCALENDAR
VERSION:2.0
PRODID:-//ChamberMaster//Event Calendar 2.0//EN
METHOD:PUBLISH
X-PUBLISHED-TTL:P3D
REFRESH-INTERVAL:P3D
CALSCALE:GREGORIAN
BEGIN:VEVENT
DTSTART:20250410T160000Z
DTEND:20250410T181500Z
X-MICROSOFT-CDO-ALLDAYEVENT:FALSE
SUMMARY:Spring into Service with GLYP at the Greenwood Community Kitchen!
DESCRIPTION:Join the Greenwood Leflore Young Professionals for a heartwarming day of giving back! We're rolling up our sleeves and volunteering at the Greenwood Community Kitchen\, where we'll help serve delicious meals and spread good vibes throughout our community. It's a wonderful chance to connect with fellow young professionals and make a positive impact. Let's work together to nourish both bodies and spirits in our community because there's no better way to bloom than by helping others!
X-ALT-DESC;FMTTYPE=text/html:Join the Greenwood Leflore Young Professionals for a heartwarming day of giving back! We&#39\;re rolling up our sleeves and volunteering at the Greenwood Community Kitchen\, where we&rsquo\;ll help serve delicious meals and spread good vibes throughout our community. It&#39\;s a wonderful chance to connect with fellow young professionals and make a positive impact. Let&rsquo\;s work together to nourish both bodies and spirits in our community&mdash\;because there&rsquo\;s no better way to bloom than by helping others!
LOCATION:Ballas Family Community Kitchen 180 East Johnson Street Greenwood\, MS 38930
UID:e.2769.570
SEQUENCE:3
DTSTAMP:20260422T230757Z
URL:https://business.greenwoodmschamber.com/events/details/spring-into-service-with-glyp-at-the-greenwood-community-kitchen-570
END:VEVENT

END:VCALENDAR
