BEGIN:VCALENDAR
VERSION:2.0
PRODID:-//ChamberMaster//Event Calendar 2.0//EN
METHOD:PUBLISH
X-PUBLISHED-TTL:P3D
REFRESH-INTERVAL:P3D
CALSCALE:GREGORIAN
BEGIN:VEVENT
DTSTART:20250627T000000Z
DTEND:20250627T030000Z
X-MICROSOFT-CDO-ALLDAYEVENT:FALSE
SUMMARY:Stars and Stripes Festival
DESCRIPTION:This FREE community festival includes LIVE entertainment\, food trucks\, arts and crafts for the kids\, a Veterans Tribute\, boat parade and fireworks after dark over the Yazoo River.
X-ALT-DESC;FMTTYPE=text/html:This FREE community festival includes LIVE entertainment\, food trucks\, arts and crafts for the kids\, a Veterans Tribute\, boat parade and fireworks after dark over the Yazoo River.
LOCATION:Between the Bridges\, Downtown
UID:e.2769.527
SEQUENCE:3
DTSTAMP:20260422T215219Z
URL:https://business.greenwoodmschamber.com/events/details/stars-and-stripes-festival-527
END:VEVENT

END:VCALENDAR
