BEGIN:VCALENDAR
VERSION:2.0
PRODID:-//ChamberMaster//Event Calendar 2.0//EN
METHOD:PUBLISH
X-PUBLISHED-TTL:P3D
REFRESH-INTERVAL:P3D
CALSCALE:GREGORIAN
BEGIN:VEVENT
DTSTART:20250607T000000Z
DTEND:20250607T023000Z
X-MICROSOFT-CDO-ALLDAYEVENT:FALSE
SUMMARY:The Wizard of Oz Musical Production
DESCRIPTION:Follow the yellow brick road to a magical production of The Wizard of Oz! This family-friendly show features live music\, dazzling choreography\, and vibrant costumes. Performances include: Opening Night: June 5\, 7:00 PM Evening Performances: June 6 & 7\, 7:00 PM Matinee Finale: June 8\, 2:00 PM Perfect for all ages! Tickets available online or at the door.
X-ALT-DESC;FMTTYPE=text/html:Follow the yellow brick road to a magical production of The Wizard of Oz! This family-friendly show features live music\, dazzling choreography\, and vibrant costumes. Performances include: Opening Night: June 5\, 7:00 PM Evening Performances: June 6 &amp\; 7\, 7:00 PM Matinee Finale: June 8\, 2:00 PM Perfect for all ages! Tickets available online or at the door.
LOCATION:Davis Auditorium\, 400 Cotton St. Greenwood\, Mississippi
UID:e.2769.1003
SEQUENCE:3
DTSTAMP:20260422T215315Z
URL:https://business.greenwoodmschamber.com/events/details/the-wizard-of-oz-musical-production-06-06-2025-1003
END:VEVENT

END:VCALENDAR
