BEGIN:VCALENDAR
VERSION:2.0
PRODID:-//ChamberMaster//Event Calendar 2.0//EN
METHOD:PUBLISH
X-PUBLISHED-TTL:P3D
REFRESH-INTERVAL:P3D
CALSCALE:GREGORIAN
BEGIN:VEVENT
DTSTART:20251023T160000Z
DTEND:20251024T020000Z
X-MICROSOFT-CDO-ALLDAYEVENT:FALSE
SUMMARY:United Way All-In Event
DESCRIPTION:Drawdown\, Golf Tournament and Bingo in support of United Way of Leflore County.
X-ALT-DESC;FMTTYPE=text/html:Drawdown\, Golf Tournament and Bingo in support of United Way of Leflore County.
LOCATION:Greenwood Country Club
UID:e.2769.549
SEQUENCE:3
DTSTAMP:20260422T172154Z
URL:https://business.greenwoodmschamber.com/events/details/united-way-all-in-event-549
END:VEVENT

END:VCALENDAR
