BEGIN:VCALENDAR
VERSION:2.0
PRODID:-//ChamberMaster//Event Calendar 2.0//EN
METHOD:PUBLISH
X-PUBLISHED-TTL:P3D
REFRESH-INTERVAL:P3D
CALSCALE:GREGORIAN
BEGIN:VEVENT
DTSTART:20250322T120000Z
DTEND:20250322T170000Z
X-MICROSOFT-CDO-ALLDAYEVENT:FALSE
SUMMARY:Viking Half Marathon
DESCRIPTION:Located in the heart of the fabled Mississippi Delta\, the Viking Half Marathon and 5K promises Southern charm\, fast times\, and an unbelievable race experience. From the time you arrive in Greenwood\, you can expect great local culture\, an array of fabulous food\, and warm Southern hospitality.\n\nThe races will begin and end in the historic Cotton Row district of Greenwood and will take you through the flat\, tree-lined streets of Greenwood. Racers and spectators will love the beautiful oaks and homes lining Grand Boulevard\, once named "One of America's 10 Most Beautiful Streets" by the U.S. Chamber of Commerce and the Garden Clubs of America.\n\nThe race course also passes by many of the site locations used in the filming of the blockbuster movie The Help\, which was filmed in Greenwood in 2010. To top off the weekend\, restaurants\, residents\, and shop owners will welcome you with special menus and activities throughout the weekend. Welcome to Greenwood\, a true jewel in the Mississippi Delta.\n\nFor more information call the\n\nGreenwood-Leflore Chamber of Commerce\n\nat 662.453.4152
X-ALT-DESC;FMTTYPE=text/html:<div class="xdj266r x11i5rnm xat24cr x1mh8g0r x1vvkbs" style="margin: 0px\; overflow-wrap: break-word\; font-family: system-ui\, -apple-system\, BlinkMacSystemFont\, &quot\;.SFNSText-Regular&quot\;\, sans-serif\; caret-color: rgb(226\, 229\, 233)\; color: rgb(226\, 229\, 233)\; font-size: 15px\;"><span style="font-size:14px\;"><span style="color:#000000\;"><span style="font-family:times new roman\;">Located in the heart of the fabled Mississippi Delta\, the Viking Half Marathon and 5K promises Southern charm\, fast times\, and an unbelievable race experience. From the time you arrive in Greenwood\, you can expect great local culture\, an array of fabulous food\, and warm Southern hospitality.</span></span></span></div>\n\n<div class="x11i5rnm xat24cr x1mh8g0r x1vvkbs xtlvy1s" style="margin: 0.5em 0px 0px\; overflow-wrap: break-word\; font-family: system-ui\, -apple-system\, BlinkMacSystemFont\, &quot\;.SFNSText-Regular&quot\;\, sans-serif\; caret-color: rgb(226\, 229\, 233)\; color: rgb(226\, 229\, 233)\; font-size: 15px\;"><span style="font-size:14px\;"><span style="color:#000000\;"><span style="font-family:times new roman\;">The races will begin and end in the historic Cotton Row district of Greenwood and will take you through the flat\, tree-lined streets of Greenwood. Racers and spectators will love the beautiful oaks and homes lining Grand Boulevard\, once named &rdquo\;One of America&rsquo\;s 10 Most Beautiful Streets&rdquo\; by the U.S. Chamber of Commerce and the Garden Clubs of America.</span></span></span></div>\n\n<div class="x11i5rnm xat24cr x1mh8g0r x1vvkbs xtlvy1s" style="margin: 0.5em 0px 0px\; overflow-wrap: break-word\; font-family: system-ui\, -apple-system\, BlinkMacSystemFont\, &quot\;.SFNSText-Regular&quot\;\, sans-serif\; caret-color: rgb(226\, 229\, 233)\; color: rgb(226\, 229\, 233)\; font-size: 15px\;"><span style="font-size:14px\;"><span style="color:#000000\;"><span style="font-family:times new roman\;">The race course also passes by many of the site locations used in the filming of the blockbuster movie The Help\, which was filmed in Greenwood in 2010. To top off the weekend\, restaurants\, residents\, and shop owners will welcome you with special menus and activities throughout the weekend. Welcome to Greenwood\, a true jewel in the Mississippi Delta.</span></span></span></div>\n\n<div class="x11i5rnm xat24cr x1mh8g0r x1vvkbs xtlvy1s" style="margin: 0.5em 0px 0px\; overflow-wrap: break-word\; font-family: system-ui\, -apple-system\, BlinkMacSystemFont\, &quot\;.SFNSText-Regular&quot\;\, sans-serif\; caret-color: rgb(226\, 229\, 233)\; color: rgb(226\, 229\, 233)\; font-size: 15px\;"><span style="font-size:14px\;"><span style="color:#000000\;"><span style="font-family:times new roman\;">For more information call the<br class="html-br" />\nGreenwood-Leflore Chamber of Commerce<br class="html-br" />\nat 662.453.4152</span></span></span></div>\n
LOCATION:
UID:e.2769.524
SEQUENCE:3
DTSTAMP:20260421T133819Z
URL:https://business.greenwoodmschamber.com/events/details/viking-half-marathon-524
END:VEVENT

END:VCALENDAR
