BEGIN:VCALENDAR
VERSION:2.0
PRODID:-//ChamberMaster//Event Calendar 2.0//EN
METHOD:PUBLISH
X-PUBLISHED-TTL:P3D
REFRESH-INTERVAL:P3D
CALSCALE:GREGORIAN
BEGIN:VEVENT
DTSTART:20250628T120000Z
DTEND:20250628T170000Z
X-MICROSOFT-CDO-ALLDAYEVENT:FALSE
SUMMARY:Youth Fishing Rodeo
DESCRIPTION:Ages 15 & under. Fun and Fishing for young anglers! Bring your own fishing gear\, tackle\, bait\, & a cooler or bucket for your catch! Tagged Fish\, Free Food\, & Prizes
X-ALT-DESC;FMTTYPE=text/html:Ages 15 &amp\; under. Fun and Fishing for young anglers! Bring your own fishing gear\, tackle\, bait\, &amp\; a cooler or bucket for your catch! Tagged Fish\, Free Food\, &amp\; Prizes
LOCATION:Florewood Plantation 1900 CR 145 Greenwood\, MS 38930
UID:e.2769.1006
SEQUENCE:3
DTSTAMP:20260422T205059Z
URL:https://business.greenwoodmschamber.com/events/details/youth-fishing-rodeo-1006
END:VEVENT

END:VCALENDAR
